BEGIN:VCALENDAR
VERSION:2.0
PRODID:-//Mana Retreat Centre - ECPv6.15.20//NONSGML v1.0//EN
CALSCALE:GREGORIAN
METHOD:PUBLISH
X-ORIGINAL-URL:https://manaretreat.com
X-WR-CALDESC:Events for Mana Retreat Centre
REFRESH-INTERVAL;VALUE=DURATION:PT1H
X-Robots-Tag:noindex
X-PUBLISHED-TTL:PT1H
BEGIN:VTIMEZONE
TZID:Pacific/Auckland
BEGIN:STANDARD
TZOFFSETFROM:+1300
TZOFFSETTO:+1200
TZNAME:NZST
DTSTART:20250405T140000
END:STANDARD
BEGIN:DAYLIGHT
TZOFFSETFROM:+1200
TZOFFSETTO:+1300
TZNAME:NZDT
DTSTART:20250927T140000
END:DAYLIGHT
BEGIN:STANDARD
TZOFFSETFROM:+1300
TZOFFSETTO:+1200
TZNAME:NZST
DTSTART:20260404T140000
END:STANDARD
BEGIN:DAYLIGHT
TZOFFSETFROM:+1200
TZOFFSETTO:+1300
TZNAME:NZDT
DTSTART:20260926T140000
END:DAYLIGHT
BEGIN:STANDARD
TZOFFSETFROM:+1300
TZOFFSETTO:+1200
TZNAME:NZST
DTSTART:20270403T140000
END:STANDARD
BEGIN:DAYLIGHT
TZOFFSETFROM:+1200
TZOFFSETTO:+1300
TZNAME:NZDT
DTSTART:20270925T140000
END:DAYLIGHT
END:VTIMEZONE
BEGIN:VEVENT
DTSTART;TZID=Pacific/Auckland:20260120T160000
DTEND;TZID=Pacific/Auckland:20260125T140000
DTSTAMP:20260425T001151
CREATED:20250620T021259Z
LAST-MODIFIED:20250814T235327Z
UID:10001093-1768924800-1769349600@manaretreat.com
SUMMARY:DUPANZ Summer of the Soul - The Fullness of Being
DESCRIPTION:Weaving together strands of earth based wisdom with Shafia Mariam and Rahmana Dziubany\nJoin Shafia Mariam and Rahmana for a Summer dances of universal peace retreat. Set in the stunning Coromandel ranges\, this retreat will weave together strands of earth based widsom\, sharing dances\, stories and rituals from many ancient traditions – moari and goddess\, Sufi and Hindu.
URL:https://manaretreat.com/event/dupanz-summer-of-the-soul-the-fullness-of-being/
LOCATION:Mana Retreat Centre\, 608 Manaia Road\, State Highway 25\, RD1\, Coromandel\, 3581\, New Zealand
CATEGORIES:Conscious Dance,Movement and Sound
ATTACH;FMTTYPE=image/jpeg:https://manaretreat.com/wp-content/uploads/Retreat-Featured-Image--scaled.jpg
END:VEVENT
BEGIN:VEVENT
DTSTART;TZID=Pacific/Auckland:20260127T100000
DTEND;TZID=Pacific/Auckland:20260127T234500
DTSTAMP:20260425T001151
CREATED:20260121T225949Z
LAST-MODIFIED:20260201T235422Z
UID:10001144-1769508000-1769557500@manaretreat.com
SUMMARY:Open Floor Community Dance
DESCRIPTION:Join a fabulous Open Floor Dance community\, sharing the joy of embodied movement most Tuesdays at Mana.  \nWhen: \nMost Tuesday Mornings at Mana. \nTime: 10:00–11:45AM / COST: $25-$20 Sliding Scale \nFeel free to arrive from 9:45am. T he music will be on if you’d like a longer warmup\, or if you’re new come early so we can welcome you. \nWhat is Open Floor Conscious Dance? \nOpen Floor is a lively dance and movement practice that energises the body and opens the mind. \nThere are no moves to learn. We simply show up and move with whatever is present: our creative minds\, our tender hearts\, our joys and excitements\, our aches and pains. And in the process we discover our own unique dance. \nClasses include guided inquiry as well as time to follow your own dance. The teachers select diverse music to inspire creative expression\, wild abandon and quiet awareness. Sometimes we experience insights and healing\, and sometimes we simply have a great dance. \nThe open dance floor becomes a playground for exploring the relational nature of being human: our ever-changing needs for solitude\, connection and a sense of community. We learn life skills that serve us on and off the dance floor\, helping us to develop a flexibility and resilience that enables us to respond creatively to life. \nNo experience is required. \nThe invitation is to come just as you are. \nFOR MORE INFORMATION ABOUT OPEN FLOOR DANCE LOCATIONS CONTACT PIPPA OR LISA \nPippa: 02102963632 or visit Prana Dance \nInstagram: @pranadance_nz / www.facebook\,com/pranadance \nLisa: 0211754741 or visit www.wildbonesopenfloor.co.nz \nFacebook: https://www.facebook.com/wildbonesopenfloor \nEmail: wildbonesopenfloor@gmail.com
URL:https://manaretreat.com/event/open-floor-community-dance/
LOCATION:Mana Retreat Centre\, 608 Manaia Road\, State Highway 25\, RD1\, Coromandel\, 3581\, New Zealand
CATEGORIES:Community Event,Conscious Dance
ATTACH;FMTTYPE=image/jpeg:https://manaretreat.com/wp-content/uploads/Retreat-Featured-Image-50-scaled.jpg
END:VEVENT
END:VCALENDAR